BEGIN:VCALENDAR
VERSION:2.0
PRODID:-//Squarespace Inc/Squarespace 6//v6//EN
BEGIN:VEVENT
UID:5fe7e17c8e6d4012c8c66af8@squarespace.com
DTSTAMP:20210109T223619Z
DTSTART:20210131T210000Z
DTEND:20210201T010000Z
SUMMARY:New Year Body Peace Curvylicious Yoga Day
GEO:-36.802944;174.713097
LOCATION:The Adaptive Yogi\, 134 Verran Road\, Auckland\, Auckland\, 0626\, 
 New Zealand
END:VEVENT
END:VCALENDAR
