BEGIN:VCALENDAR
VERSION:2.0
PRODID:-//Squarespace Inc/Squarespace 6//v6//EN
BEGIN:VEVENT
UID:5fe7c585b2c5c3126eded88f@squarespace.com
DTSTAMP:20210109T223702Z
DTSTART:20210201T050000Z
DTEND:20210201T073000Z
SUMMARY:New Year Body Peace Curvylicious Super Class
GEO:37.332854;-121.894908
LOCATION:The Adaptive Yogi\, ZOOM Meeting Room
END:VEVENT
END:VCALENDAR
