BEGIN:VCALENDAR
VERSION:2.0
PRODID:-//Squarespace Inc/Squarespace 6//v6//EN
BEGIN:VEVENT
UID:5fe8ee6b3bc7803746d1e1d6@squarespace.com
DTSTAMP:20210109T223217Z
DTSTART:20210118T060000Z
DTEND:20210118T071500Z
SUMMARY:FREE Yoga Your Way Workshop
GEO:-35.368595;174.089557
LOCATION:The Adaptive Yogi\, on ZOOM\, New Zealand
END:VEVENT
END:VCALENDAR
